BEGIN:VCALENDAR
VERSION:2.0
PRODID:icalendar-ruby
CALSCALE:GREGORIAN
METHOD:PUBLISH
BEGIN:VEVENT
DTSTAMP:20260423T222315Z
UID:5-1041182@graceepiscopal169.tithelysetup5.com
DTSTART:20261101T180000Z
DTEND:20261101T190000Z
CLASS:PUBLIC
CREATED:20260423T134114
DESCRIPTION:Sunday Worship
LAST-MODIFIED:20260423T134114
LOCATION:
SUMMARY:Sunday Worship
URL;VALUE=URI:https://www.gracechurchfairfield.org/events/sunday-worship/20
 26-11-01
END:VEVENT
END:VCALENDAR
